BEGIN:VCALENDAR
VERSION:2.0
PRODID:-//Pfarreiengemeinschaft a.T.W. - ECPv6.15.20//NONSGML v1.0//EN
CALSCALE:GREGORIAN
METHOD:PUBLISH
X-WR-CALNAME:Pfarreiengemeinschaft a.T.W.
X-ORIGINAL-URL:https://www.pfarreiengemeinschaft-atw.de
X-WR-CALDESC:Veranstaltungen für Pfarreiengemeinschaft a.T.W.
REFRESH-INTERVAL;VALUE=DURATION:PT1H
X-Robots-Tag:noindex
X-PUBLISHED-TTL:PT1H
BEGIN:VTIMEZONE
TZID:Europe/Berlin
BEGIN:DAYLIGHT
TZOFFSETFROM:+0100
TZOFFSETTO:+0200
TZNAME:CEST
DTSTART:20250330T010000
END:DAYLIGHT
BEGIN:STANDARD
TZOFFSETFROM:+0200
TZOFFSETTO:+0100
TZNAME:CET
DTSTART:20251026T010000
END:STANDARD
BEGIN:DAYLIGHT
TZOFFSETFROM:+0100
TZOFFSETTO:+0200
TZNAME:CEST
DTSTART:20260329T010000
END:DAYLIGHT
BEGIN:STANDARD
TZOFFSETFROM:+0200
TZOFFSETTO:+0100
TZNAME:CET
DTSTART:20261025T010000
END:STANDARD
BEGIN:DAYLIGHT
TZOFFSETFROM:+0100
TZOFFSETTO:+0200
TZNAME:CEST
DTSTART:20270328T010000
END:DAYLIGHT
BEGIN:STANDARD
TZOFFSETFROM:+0200
TZOFFSETTO:+0100
TZNAME:CET
DTSTART:20271031T010000
END:STANDARD
END:VTIMEZONE
BEGIN:VEVENT
DTSTART;VALUE=DATE:20260501
DTEND;VALUE=DATE:20260502
DTSTAMP:20260424T062917
CREATED:20260331T155231Z
LAST-MODIFIED:20260331T155231Z
UID:15647-1777593600-1777679999@www.pfarreiengemeinschaft-atw.de
SUMMARY:Anmeldeschluss Kfd Borgloh: Spaziergang in den Uphöfener-Frühling
DESCRIPTION:Für die Wanderinnen ist Treffpunkt um 14:30 Uhr am PK-Haus.  Ziel – ca. 15:30 Uhr: Am Königsbach 1\, bei Elisabeth Bextermöller. \nDort gibt es selbstgebackenen Kuchen mit Kaffee oder Tee. Wieder zusammenkommen\, schöne Stunden verleben. \nDu kannst nicht wandern\, dann komm um 15:15h zum PK-Haus\, da kannst du unseren Fahrdienst in Anspruch nehmen. \nFür ALLE: Tel. Anmeldung bitte bis 01. Mai 2026 bei Maria Anna Baumann – Tel. 05409 – 1901. Bitte angeben\, wenn du zum Ziel und auch zurückgefahren werden möchtest. \nEs laden herzlich ein „Orga-Frauen Uphöfen“ und das kfd-Team Borgloh.           
URL:https://www.pfarreiengemeinschaft-atw.de/veranstaltungen/anmeldeschluss-kfd-borgloh-spaziergang-in-den-uphoefener-fruehling/
END:VEVENT
BEGIN:VEVENT
DTSTART;TZID=Europe/Berlin:20260506T150000
DTEND;TZID=Europe/Berlin:20260506T170000
DTSTAMP:20260424T062917
CREATED:20260303T151849Z
LAST-MODIFIED:20260303T151849Z
UID:15521-1778079600-1778086800@www.pfarreiengemeinschaft-atw.de
SUMMARY:Pankratz Digitaltreff
DESCRIPTION:KEB-Angebot in Borgloh: „Pankratz Digital Treff“\nWas ist das?\nEs geht um Fragen zum Umgang mit smarten Medien wie Handy\, Tablett oder Laptop.\nDeren Nutzung ermöglicht nicht nur digitale\, sondern auch soziale Teilhabe.\nBeim Digital-Treff haben Sie die Möglichkeit\, Fragen zu Umgang oder Anwendung zu stellen.\nWas könnten z.B. Fragen sein:\n• Sie möchten Tickets für Veranstaltungen oder Bahn?\n• Sie möchten Ihr Gerät für sich im Schriftbild und in den Einstellungen anpassen?\n• Sie möchten Arzttermine digital buchen?\n• Sie haben Fragen zum online-Banking?\n• Sie möchten Ihre Fotos nach Ihren Vorstellungen bearbeiten und sortieren?\n• Sie möchten Nachrichten und Anhänge per WhatsApp oder Email verschicken?\n• Sie möchten interessante Apps installieren?\n• Sie sind manchmal unsicher bei der Auswahl und Anwendung von Apps?\n• Sie haben Fragen zu einer Neuanschaffung eines digitalen Gerätes und möchten gerne etwas\nausprobieren?\n• Sie haben andere Fragen oder Wünsche?\n• …\nIm Pankratius-Haus stehen Ihnen an jedem 1. und 3. Mittwoch im Monat\nvon 15.00 -17.00 Uhr Ehrenamtliche für Ihre Fragen und Anliegen zur Verfügung –\nkostenlos\, unverbindlich\, ohne Anmeldung!\nHaben Sie keine Scheu\, mit IHREN Fragen zu kommen!\nDas Digital-Team freut sich auf Ihren Besuch.pan
URL:https://www.pfarreiengemeinschaft-atw.de/veranstaltungen/pankratz-digitaltreff-2-2-1-2/
ATTACH;FMTTYPE=image/jpeg:https://www.pfarreiengemeinschaft-atw.de/wp-content/uploads/2025/07/BorglohPankrazDigitalTreff.jpg
END:VEVENT
BEGIN:VEVENT
DTSTART;TZID=Europe/Berlin:20260507T190000
DTEND;TZID=Europe/Berlin:20260507T210000
DTSTAMP:20260424T062917
CREATED:20260219T101257Z
LAST-MODIFIED:20260224T160026Z
UID:15444-1778180400-1778187600@www.pfarreiengemeinschaft-atw.de
SUMMARY:Neuer „Glaubenskreis“ für Jugendliche und junge Erwachsene in unserer Pfarreiengemeinschaft
DESCRIPTION:Seit einiger Zeit gibt es einen neuen „Glaubenskreis“ für ältere Jugendliche und junge Erwachsene. Dieser trifft sich zweimal im Monat jeweils am Donnerstag von 19.00 bis ca. 21.00 Uhr im Gemeindezentrum und in der Kapelle St. Ansgar in Dissen. Wir lesen gemeinsam in der Bibel (aktuell im Matthäusevangelium) und nehmen uns Zeit für gemeinsames Gebet und Lobpreis in der Kapelle. Interessierte Jugendliche und junge Erwachsene sind jederzeit herzlich willkommen\, zu dieser Gruppe dazuzustoßen. Unsere nächsten Treffen sind an folgenden Terminen: 26. März\, 9. April\, 23. April\, 7. Mai\, 28. Mai\, 11. Juni und 25. Juni 2026. Weitere Informationen zu dieser Gruppe bei Pastor Ansgar Lammen! \n(Bild: Robert Poosz\, in: Pfarrbriefservice.de)
URL:https://www.pfarreiengemeinschaft-atw.de/veranstaltungen/neuer-glaubenskreis-fuer-jugendliche-und-junge-erwachsene-in-unserer-pfarreiengemeinschaft-4/
ATTACH;FMTTYPE=image/jpeg:https://www.pfarreiengemeinschaft-atw.de/wp-content/uploads/2026/02/Glaubenskreis.jpg
END:VEVENT
BEGIN:VEVENT
DTSTART;VALUE=DATE:20260508
DTEND;VALUE=DATE:20260509
DTSTAMP:20260424T062917
CREATED:20260127T155646Z
LAST-MODIFIED:20260127T155646Z
UID:15288-1778198400-1778284799@www.pfarreiengemeinschaft-atw.de
SUMMARY:Letzter Anmeldetermin für die Frauenkundgebung in Ahmsen
DESCRIPTION:
URL:https://www.pfarreiengemeinschaft-atw.de/veranstaltungen/letzter-anmeldetermin-fuer-die-frauenkundgebung-in-ahmsen/
END:VEVENT
BEGIN:VEVENT
DTSTART;VALUE=DATE:20260513
DTEND;VALUE=DATE:20260518
DTSTAMP:20260424T062917
CREATED:20260319T103424Z
LAST-MODIFIED:20260319T103500Z
UID:15587-1778630400-1779062399@www.pfarreiengemeinschaft-atw.de
SUMMARY:104. Deutscher Katholikentag
DESCRIPTION:Der 104. Deutscher Katholikentag findet in diesem Jahr vom 13. – 17.05.2026 in Würzburg statt. „Hab Mut\, steh auf“ ist das Thema der Veranstaltung. Das Programm für diese Tage ist ab sofort im Internet unter:  www.katholikentag.de zu finden
URL:https://www.pfarreiengemeinschaft-atw.de/veranstaltungen/104-deutscher-katholikentag/
END:VEVENT
BEGIN:VEVENT
DTSTART;TZID=Europe/Berlin:20260520T150000
DTEND;TZID=Europe/Berlin:20260520T170000
DTSTAMP:20260424T062917
CREATED:20260303T151208Z
LAST-MODIFIED:20260303T151230Z
UID:15511-1779289200-1779296400@www.pfarreiengemeinschaft-atw.de
SUMMARY:Pankratz Digitaltreff
DESCRIPTION:KEB-Angebot in Borgloh: „Pankratz Digital Treff“\nWas ist das?\nEs geht um Fragen zum Umgang mit smarten Medien wie Handy\, Tablett oder Laptop.\nDeren Nutzung ermöglicht nicht nur digitale\, sondern auch soziale Teilhabe.\nBeim Digital-Treff haben Sie die Möglichkeit\, Fragen zu Umgang oder Anwendung zu stellen.\nWas könnten z.B. Fragen sein:\n• Sie möchten Tickets für Veranstaltungen oder Bahn?\n• Sie möchten Ihr Gerät für sich im Schriftbild und in den Einstellungen anpassen?\n• Sie möchten Arzttermine digital buchen?\n• Sie haben Fragen zum online-Banking?\n• Sie möchten Ihre Fotos nach Ihren Vorstellungen bearbeiten und sortieren?\n• Sie möchten Nachrichten und Anhänge per WhatsApp oder Email verschicken?\n• Sie möchten interessante Apps installieren?\n• Sie sind manchmal unsicher bei der Auswahl und Anwendung von Apps?\n• Sie haben Fragen zu einer Neuanschaffung eines digitalen Gerätes und möchten gerne etwas\nausprobieren?\n• Sie haben andere Fragen oder Wünsche?\n• …\nIm Pankratius-Haus stehen Ihnen an jedem 1. und 3. Mittwoch im Monat\nvon 15.00 -17.00 Uhr Ehrenamtliche für Ihre Fragen und Anliegen zur Verfügung –\nkostenlos\, unverbindlich\, ohne Anmeldung!\nHaben Sie keine Scheu\, mit IHREN Fragen zu kommen!\nDas Digital-Team freut sich auf Ihren Besuch.pan
URL:https://www.pfarreiengemeinschaft-atw.de/veranstaltungen/pankratz-digitaltreff-2-2-1/
ATTACH;FMTTYPE=image/jpeg:https://www.pfarreiengemeinschaft-atw.de/wp-content/uploads/2025/07/BorglohPankrazDigitalTreff.jpg
END:VEVENT
BEGIN:VEVENT
DTSTART;VALUE=DATE:20260527
DTEND;VALUE=DATE:20260530
DTSTAMP:20260424T062917
CREATED:20260319T092335Z
LAST-MODIFIED:20260319T092335Z
UID:15580-1779840000-1780099199@www.pfarreiengemeinschaft-atw.de
SUMMARY:Pilgern mit dem E-Bike
DESCRIPTION:
URL:https://www.pfarreiengemeinschaft-atw.de/veranstaltungen/pilgern-mit-dem-e-bike/
END:VEVENT
BEGIN:VEVENT
DTSTART;TZID=Europe/Berlin:20260528T170000
DTEND;TZID=Europe/Berlin:20260528T183000
DTSTAMP:20260424T062917
CREATED:20260219T103247Z
LAST-MODIFIED:20260219T103447Z
UID:15459-1779987600-1779993000@www.pfarreiengemeinschaft-atw.de
SUMMARY:Glaubensfragen – Lebensfragen
DESCRIPTION:Auf Anfrage älterer Gemeindemitglieder lade ich zu einem Rundgespräch über Fragen ein\, die uns beschäftigen und bisher noch keinen „Ort“ gefunden haben. Wer kommen möchte\, ist im Pfarrheim St. Elisabeth herzlich willkommen. Zunächst sind drei Termine vorgesehen\, jeweils am 4. Donnerstag des Monats um 17 Uhr. Dauer 60 – längstens 90 Minuten (26. März\, 23. April\, 28. Mai). Wir beginnen mit einem Schrifttext und schließen mit einem Gebet. Dazwischen ist Raum zum Fragen\, Antworten und Austausch. Willkommen\, sagt der „Neu-Rothenfelder“ Ansgar Lüttel
URL:https://www.pfarreiengemeinschaft-atw.de/veranstaltungen/glaubensfragen-lebensfragen-3/
END:VEVENT
BEGIN:VEVENT
DTSTART;TZID=Europe/Berlin:20260528T190000
DTEND;TZID=Europe/Berlin:20260528T210000
DTSTAMP:20260424T062917
CREATED:20260219T101351Z
LAST-MODIFIED:20260224T155948Z
UID:15446-1779994800-1780002000@www.pfarreiengemeinschaft-atw.de
SUMMARY:„Glaubenskreis“ für Jugendliche und junge Erwachsene in unserer Pfarreiengemeinschaft
DESCRIPTION:Seit einiger Zeit gibt es einen neuen „Glaubenskreis“ für ältere Jugendliche und junge Erwachsene. Dieser trifft sich zweimal im Monat jeweils am Donnerstag von 19.00 bis ca. 21.00 Uhr im Gemeindezentrum und in der Kapelle St. Ansgar in Dissen. Wir lesen gemeinsam in der Bibel (aktuell im Matthäusevangelium) und nehmen uns Zeit für gemeinsames Gebet und Lobpreis in der Kapelle. Interessierte Jugendliche und junge Erwachsene sind jederzeit herzlich willkommen\, zu dieser Gruppe dazuzustoßen. Unsere nächsten Treffen sind an folgenden Terminen: 26. März\, 9. April\, 23. April\, 7. Mai\, 28. Mai\, 11. Juni und 25. Juni 2026. Weitere Informationen zu dieser Gruppe bei Pastor Ansgar Lammen! \n(Bild: Robert Poosz\, in: Pfarrbriefservice.de)
URL:https://www.pfarreiengemeinschaft-atw.de/veranstaltungen/glaubenskreis-fuer-jugendliche-und-junge-erwachsene-in-unserer-pfarreiengemeinschaft/
ATTACH;FMTTYPE=image/jpeg:https://www.pfarreiengemeinschaft-atw.de/wp-content/uploads/2026/02/Glaubenskreis.jpg
END:VEVENT
BEGIN:VEVENT
DTSTART;TZID=Europe/Berlin:20260611T190000
DTEND;TZID=Europe/Berlin:20260611T210000
DTSTAMP:20260424T062917
CREATED:20260219T101454Z
LAST-MODIFIED:20260224T155920Z
UID:15448-1781204400-1781211600@www.pfarreiengemeinschaft-atw.de
SUMMARY:„Glaubenskreis“ für Jugendliche und junge Erwachsene in unserer Pfarreiengemeinschaft
DESCRIPTION:Seit einiger Zeit gibt es einen neuen „Glaubenskreis“ für ältere Jugendliche und junge Erwachsene. Dieser trifft sich zweimal im Monat jeweils am Donnerstag von 19.00 bis ca. 21.00 Uhr im Gemeindezentrum und in der Kapelle St. Ansgar in Dissen. Wir lesen gemeinsam in der Bibel (aktuell im Matthäusevangelium) und nehmen uns Zeit für gemeinsames Gebet und Lobpreis in der Kapelle. Interessierte Jugendliche und junge Erwachsene sind jederzeit herzlich willkommen\, zu dieser Gruppe dazuzustoßen. Unsere nächsten Treffen sind an folgenden Terminen: 26. März\, 9. April\, 23. April\, 7. Mai\, 28. Mai\, 11. Juni und 25. Juni 2026. Weitere Informationen zu dieser Gruppe bei Pastor Ansgar Lammen! \n(Bild: Robert Poosz\, in: Pfarrbriefservice.de) \n! \n 
URL:https://www.pfarreiengemeinschaft-atw.de/veranstaltungen/glaubenskreis-fuer-jugendliche-und-junge-erwachsene-in-unserer-pfarreiengemeinschaft-2/
ATTACH;FMTTYPE=image/jpeg:https://www.pfarreiengemeinschaft-atw.de/wp-content/uploads/2026/02/Glaubenskreis.jpg
END:VEVENT
BEGIN:VEVENT
DTSTART;TZID=Europe/Berlin:20260625T180000
DTEND;TZID=Europe/Berlin:20260625T213000
DTSTAMP:20260424T062917
CREATED:20260305T095742Z
LAST-MODIFIED:20260305T095742Z
UID:15542-1782410400-1782423000@www.pfarreiengemeinschaft-atw.de
SUMMARY:After Work Dinner
DESCRIPTION:
URL:https://www.pfarreiengemeinschaft-atw.de/veranstaltungen/after-work-dinner/
END:VEVENT
BEGIN:VEVENT
DTSTART;TZID=Europe/Berlin:20260625T190000
DTEND;TZID=Europe/Berlin:20260625T210000
DTSTAMP:20260424T062917
CREATED:20260219T101557Z
LAST-MODIFIED:20260224T155852Z
UID:15450-1782414000-1782421200@www.pfarreiengemeinschaft-atw.de
SUMMARY:„Glaubenskreis“ für Jugendliche und junge Erwachsene in unserer Pfarreiengemeinschaft
DESCRIPTION:Seit einiger Zeit gibt es einen neuen „Glaubenskreis“ für ältere Jugendliche und junge Erwachsene. Dieser trifft sich zweimal im Monat jeweils am Donnerstag von 19.00 bis ca. 21.00 Uhr im Gemeindezentrum und in der Kapelle St. Ansgar in Dissen. Wir lesen gemeinsam in der Bibel (aktuell im Matthäusevangelium) und nehmen uns Zeit für gemeinsames Gebet und Lobpreis in der Kapelle. Interessierte Jugendliche und junge Erwachsene sind jederzeit herzlich willkommen\, zu dieser Gruppe dazuzustoßen. Unsere nächsten Treffen sind an folgenden Terminen: 26. März\, 9. April\, 23. April\, 7. Mai\, 28. Mai\, 11. Juni und 25. Juni 2026. Weitere Informationen zu dieser Gruppe bei Pastor Ansgar Lammen! \n(Bild: Robert Poosz\, in: Pfarrbriefservice.de) \n 
URL:https://www.pfarreiengemeinschaft-atw.de/veranstaltungen/glaubenskreis-fuer-jugendliche-und-junge-erwachsene-in-unserer-pfarreiengemeinschaft-3/
ATTACH;FMTTYPE=image/jpeg:https://www.pfarreiengemeinschaft-atw.de/wp-content/uploads/2026/02/Glaubenskreis.jpg
END:VEVENT
BEGIN:VEVENT
DTSTART;VALUE=DATE:20260824
DTEND;VALUE=DATE:20260827
DTSTAMP:20260424T062917
CREATED:20260319T092736Z
LAST-MODIFIED:20260319T092736Z
UID:15585-1787529600-1787788799@www.pfarreiengemeinschaft-atw.de
SUMMARY:Pilgern mit dem E-Bike
DESCRIPTION:
URL:https://www.pfarreiengemeinschaft-atw.de/veranstaltungen/pilgern-mit-dem-e-bike-2/
END:VEVENT
END:VCALENDAR